BEGIN:VCALENDAR
VERSION:2.0
PRODID:-//Oakland Golf Club - ECPv6.15.18//NONSGML v1.0//EN
CALSCALE:GREGORIAN
METHOD:PUBLISH
X-WR-CALNAME:Oakland Golf Club
X-ORIGINAL-URL:https://www.oaklandnegolfclub.com
X-WR-CALDESC:Events for Oakland Golf Club
REFRESH-INTERVAL;VALUE=DURATION:PT1H
X-Robots-Tag:noindex
X-PUBLISHED-TTL:PT1H
BEGIN:VTIMEZONE
TZID:UTC
BEGIN:STANDARD
TZOFFSETFROM:+0000
TZOFFSETTO:+0000
TZNAME:UTC
DTSTART:20230101T000000
END:STANDARD
END:VTIMEZONE
BEGIN:VEVENT
DTSTART;TZID=UTC:20240211T170000
DTEND;TZID=UTC:20240211T190000
DTSTAMP:20260420T040157
CREATED:20231213T041324Z
LAST-MODIFIED:20240210T185938Z
UID:10000037-1707670800-1707678000@www.oaklandnegolfclub.com
SUMMARY:"Souper" Bowl Party
DESCRIPTION:Join us to watch the Super Bowl and eat some Super Soup!!  There will be a variety to choose from.
URL:https://www.oaklandnegolfclub.com/event/mardi-gras-super-bowl-party/
END:VEVENT
END:VCALENDAR