BEGIN:VCALENDAR
VERSION:2.0
PRODID:-//Oakland Golf Club - ECPv6.15.18//NONSGML v1.0//EN
CALSCALE:GREGORIAN
METHOD:PUBLISH
X-ORIGINAL-URL:https://www.oaklandnegolfclub.com
X-WR-CALDESC:Events for Oakland Golf Club
REFRESH-INTERVAL;VALUE=DURATION:PT1H
X-Robots-Tag:noindex
X-PUBLISHED-TTL:PT1H
BEGIN:VTIMEZONE
TZID:UTC
BEGIN:STANDARD
TZOFFSETFROM:+0000
TZOFFSETTO:+0000
TZNAME:UTC
DTSTART:20230101T000000
END:STANDARD
END:VTIMEZONE
BEGIN:VTIMEZONE
TZID:America/Chicago
BEGIN:DAYLIGHT
TZOFFSETFROM:-0600
TZOFFSETTO:-0500
TZNAME:CDT
DTSTART:20230312T080000
END:DAYLIGHT
BEGIN:STANDARD
TZOFFSETFROM:-0500
TZOFFSETTO:-0600
TZNAME:CST
DTSTART:20231105T070000
END:STANDARD
BEGIN:DAYLIGHT
TZOFFSETFROM:-0600
TZOFFSETTO:-0500
TZNAME:CDT
DTSTART:20240310T080000
END:DAYLIGHT
BEGIN:STANDARD
TZOFFSETFROM:-0500
TZOFFSETTO:-0600
TZNAME:CST
DTSTART:20241103T070000
END:STANDARD
BEGIN:DAYLIGHT
TZOFFSETFROM:-0600
TZOFFSETTO:-0500
TZNAME:CDT
DTSTART:20250309T080000
END:DAYLIGHT
BEGIN:STANDARD
TZOFFSETFROM:-0500
TZOFFSETTO:-0600
TZNAME:CST
DTSTART:20251102T070000
END:STANDARD
END:VTIMEZONE
BEGIN:VEVENT
DTSTART;TZID=UTC:20240406T150000
DTEND;TZID=UTC:20240406T220000
DTSTAMP:20260425T070759
CREATED:20231115T093643Z
LAST-MODIFIED:20240125T161445Z
UID:10000002-1712415600-1712440800@www.oaklandnegolfclub.com
SUMMARY:2024 RibFest
DESCRIPTION:Annual OGC RibFest–April 6\, 2024–Open to all!
URL:https://www.oaklandnegolfclub.com/event/2024-ribfest/
END:VEVENT
BEGIN:VEVENT
DTSTART;TZID=America/Chicago:20240417T173000
DTEND;TZID=America/Chicago:20240417T193000
DTSTAMP:20260425T070759
CREATED:20240419T212642Z
LAST-MODIFIED:20240419T212643Z
UID:10000125-1713375000-1713382200@www.oaklandnegolfclub.com
SUMMARY:Men's League
DESCRIPTION:5:30 shotgun\nFOOD after!
URL:https://www.oaklandnegolfclub.com/event/mens-league-17/
END:VEVENT
BEGIN:VEVENT
DTSTART;TZID=America/Chicago:20240418T090000
DTEND;TZID=America/Chicago:20240418T113000
DTSTAMP:20260425T070759
CREATED:20240407T173416Z
LAST-MODIFIED:20240409T170756Z
UID:10000067-1713430800-1713439800@www.oaklandnegolfclub.com
SUMMARY:Ladies "Just For Fun"
DESCRIPTION:Every Thursday morning….coffee at 9:00\,  9 hole golf event at 9:30.\nStarts April 18th!
URL:https://www.oaklandnegolfclub.com/event/ladies-fun-play-day/
END:VEVENT
BEGIN:VEVENT
DTSTART;TZID=America/Chicago:20240424T173000
DTEND;TZID=America/Chicago:20240424T193000
DTSTAMP:20260425T070759
CREATED:20240419T205944Z
LAST-MODIFIED:20240419T205944Z
UID:10000105-1713979800-1713987000@www.oaklandnegolfclub.com
SUMMARY:Men's League
DESCRIPTION:5:30 shotgun\nFOOD after!
URL:https://www.oaklandnegolfclub.com/event/mens-league/
END:VEVENT
BEGIN:VEVENT
DTSTART;TZID=America/Chicago:20240425T090000
DTEND;TZID=America/Chicago:20240425T113000
DTSTAMP:20260425T070759
CREATED:20240409T170546Z
LAST-MODIFIED:20240409T170825Z
UID:10000068-1714035600-1714044600@www.oaklandnegolfclub.com
SUMMARY:Ladies "Just For Fun"
DESCRIPTION:9:00 coffee and rolls\n9:30 shotgun start for golf (9 holes)
URL:https://www.oaklandnegolfclub.com/event/ladies-just-for-fun/
END:VEVENT
BEGIN:VEVENT
DTSTART;TZID=America/Chicago:20240425T160000
DTEND;TZID=America/Chicago:20240425T190000
DTSTAMP:20260425T070759
CREATED:20240308T195801Z
LAST-MODIFIED:20240309T000115Z
UID:10000054-1714060800-1714071600@www.oaklandnegolfclub.com
SUMMARY:Oakland-Craig Triangular
DESCRIPTION:
URL:https://www.oaklandnegolfclub.com/event/oakland-craig-triangular/
ATTACH;FMTTYPE=image/jpeg:https://www.oaklandnegolfclub.com/wp-content/uploads/sites/9009/2024/02/OCKnightslogo.jpg
END:VEVENT
BEGIN:VEVENT
DTSTART;TZID=America/Chicago:20240427T090000
DTEND;TZID=America/Chicago:20240427T150000
DTSTAMP:20260425T070759
CREATED:20240209T033040Z
LAST-MODIFIED:20240209T033040Z
UID:10000051-1714208400-1714230000@www.oaklandnegolfclub.com
SUMMARY:OC Golf Invitational
DESCRIPTION:
URL:https://www.oaklandnegolfclub.com/event/oc-golf-invitational-2/
ATTACH;FMTTYPE=image/jpeg:https://www.oaklandnegolfclub.com/wp-content/uploads/sites/9009/2024/02/OCKnightslogo.jpg
END:VEVENT
END:VCALENDAR