BEGIN:VCALENDAR
VERSION:2.0
PRODID:-//Oakland Golf Club - ECPv6.15.18//NONSGML v1.0//EN
CALSCALE:GREGORIAN
METHOD:PUBLISH
X-WR-CALNAME:Oakland Golf Club
X-ORIGINAL-URL:https://www.oaklandnegolfclub.com
X-WR-CALDESC:Events for Oakland Golf Club
REFRESH-INTERVAL;VALUE=DURATION:PT1H
X-Robots-Tag:noindex
X-PUBLISHED-TTL:PT1H
BEGIN:VTIMEZONE
TZID:America/Chicago
BEGIN:DAYLIGHT
TZOFFSETFROM:-0600
TZOFFSETTO:-0500
TZNAME:CDT
DTSTART:20230312T080000
END:DAYLIGHT
BEGIN:STANDARD
TZOFFSETFROM:-0500
TZOFFSETTO:-0600
TZNAME:CST
DTSTART:20231105T070000
END:STANDARD
BEGIN:DAYLIGHT
TZOFFSETFROM:-0600
TZOFFSETTO:-0500
TZNAME:CDT
DTSTART:20240310T080000
END:DAYLIGHT
BEGIN:STANDARD
TZOFFSETFROM:-0500
TZOFFSETTO:-0600
TZNAME:CST
DTSTART:20241103T070000
END:STANDARD
BEGIN:DAYLIGHT
TZOFFSETFROM:-0600
TZOFFSETTO:-0500
TZNAME:CDT
DTSTART:20250309T080000
END:DAYLIGHT
BEGIN:STANDARD
TZOFFSETFROM:-0500
TZOFFSETTO:-0600
TZNAME:CST
DTSTART:20251102T070000
END:STANDARD
END:VTIMEZONE
BEGIN:VEVENT
DTSTART;TZID=America/Chicago:20241002T170000
DTEND;TZID=America/Chicago:20241002T190000
DTSTAMP:20260420T040157
CREATED:20240828T233011Z
LAST-MODIFIED:20240829T000612Z
UID:10000158-1727888400-1727895600@www.oaklandnegolfclub.com
SUMMARY:Fall League
DESCRIPTION:FALL LEAGUE \nEvery Wed at 5pm….as long as the weather holds
URL:https://www.oaklandnegolfclub.com/event/fall-league-3/2024-10-02/
ATTACH;FMTTYPE=image/jpeg:https://www.oaklandnegolfclub.com/wp-content/uploads/sites/9009/2024/08/fall-golf74.jpg
END:VEVENT
BEGIN:VEVENT
DTSTART;TZID=America/Chicago:20241005T090000
DTEND;TZID=America/Chicago:20241005T143000
DTSTAMP:20260420T040157
CREATED:20240805T203447Z
LAST-MODIFIED:20240805T203447Z
UID:10000148-1728118800-1728138600@www.oaklandnegolfclub.com
SUMMARY:OC Invitational
DESCRIPTION:OC Girls Golf….9:00 shot gun start
URL:https://www.oaklandnegolfclub.com/event/oc-invitational/
ATTACH;FMTTYPE=image/jpeg:https://www.oaklandnegolfclub.com/wp-content/uploads/sites/9009/2024/02/OCKnightslogo.jpg
END:VEVENT
BEGIN:VEVENT
DTSTART;TZID=America/Chicago:20241006T100000
DTEND;TZID=America/Chicago:20241006T150000
DTSTAMP:20260420T040157
CREATED:20240914T211200Z
LAST-MODIFIED:20240914T211633Z
UID:10000676-1728208800-1728226800@www.oaklandnegolfclub.com
SUMMARY:OGC Ryder Cup
DESCRIPTION:10:00 start
URL:https://www.oaklandnegolfclub.com/event/ogc-ryder-cup/
ATTACH;FMTTYPE=image/jpeg:https://www.oaklandnegolfclub.com/wp-content/uploads/sites/9009/2024/09/Tournament-Ryder-Cup.jpg
END:VEVENT
BEGIN:VEVENT
DTSTART;TZID=America/Chicago:20241009T170000
DTEND;TZID=America/Chicago:20241009T190000
DTSTAMP:20260420T040157
CREATED:20240828T233011Z
LAST-MODIFIED:20240829T000612Z
UID:10000159-1728493200-1728500400@www.oaklandnegolfclub.com
SUMMARY:Fall League
DESCRIPTION:FALL LEAGUE \nEvery Wed at 5pm….as long as the weather holds
URL:https://www.oaklandnegolfclub.com/event/fall-league-3/2024-10-09/
ATTACH;FMTTYPE=image/jpeg:https://www.oaklandnegolfclub.com/wp-content/uploads/sites/9009/2024/08/fall-golf74.jpg
END:VEVENT
BEGIN:VEVENT
DTSTART;TZID=America/Chicago:20241012T080000
DTEND;TZID=America/Chicago:20241012T140000
DTSTAMP:20260420T040157
CREATED:20240912T000117Z
LAST-MODIFIED:20240912T000210Z
UID:10000673-1728720000-1728741600@www.oaklandnegolfclub.com
SUMMARY:Clean up/Gut downstairs
DESCRIPTION:On Saturday\, October 12\, please come volunteer some time to help with some fall clean-up around the clubhouse and grounds and also help us gut the basement area that is scheduled for a face-lift.  We can use all the help available!
URL:https://www.oaklandnegolfclub.com/event/clean-up-gut-downstairs/
ATTACH;FMTTYPE=image/jpeg:https://www.oaklandnegolfclub.com/wp-content/uploads/sites/9009/2024/09/YOU.jpg
END:VEVENT
BEGIN:VEVENT
DTSTART;TZID=America/Chicago:20241025T170000
DTEND;TZID=America/Chicago:20241025T190000
DTSTAMP:20260420T040157
CREATED:20241015T150447Z
LAST-MODIFIED:20241015T151721Z
UID:10000679-1729875600-1729882800@www.oaklandnegolfclub.com
SUMMARY:OC vs West Point Tailgate
DESCRIPTION:Stop by before the football game and enjoy a cocktail in the lounge.
URL:https://www.oaklandnegolfclub.com/event/oc-vs-west-point-tailgate/
END:VEVENT
BEGIN:VEVENT
DTSTART;VALUE=DATE:20241026
DTEND;VALUE=DATE:20241027
DTSTAMP:20260420T040157
CREATED:20241015T150208Z
LAST-MODIFIED:20241015T150209Z
UID:10000678-1729900800-1729987199@www.oaklandnegolfclub.com
SUMMARY:Dunning Outing
DESCRIPTION:Course closed for outing
URL:https://www.oaklandnegolfclub.com/event/dunning-outing/
END:VEVENT
BEGIN:VEVENT
DTSTART;TZID=America/Chicago:20241027T110000
DTEND;TZID=America/Chicago:20241027T150000
DTSTAMP:20260420T040157
CREATED:20241015T151135Z
LAST-MODIFIED:20241018T182643Z
UID:10000680-1730026800-1730041200@www.oaklandnegolfclub.com
SUMMARY:Brunch and "Cart & Candy"
DESCRIPTION:Come for brunch\, 11:00-1:00 and then let your kids enjoy a Halloween Cart and Candy trick or treat time afterwards….1-3pm \nGolf Carts will be available to decorate Saturday or Sunday\nquestions: call Erin @ 402-380-3844
URL:https://www.oaklandnegolfclub.com/event/brunch-and-cart-candy/
ATTACH;FMTTYPE=image/jpeg:https://www.oaklandnegolfclub.com/wp-content/uploads/sites/9009/2024/10/cartcandy.jpeg
END:VEVENT
END:VCALENDAR