BEGIN:VCALENDAR
VERSION:2.0
PRODID:-//Oakland Golf Club - ECPv6.15.18//NONSGML v1.0//EN
CALSCALE:GREGORIAN
METHOD:PUBLISH
X-WR-CALNAME:Oakland Golf Club
X-ORIGINAL-URL:https://www.oaklandnegolfclub.com
X-WR-CALDESC:Events for Oakland Golf Club
REFRESH-INTERVAL;VALUE=DURATION:PT1H
X-Robots-Tag:noindex
X-PUBLISHED-TTL:PT1H
BEGIN:VTIMEZONE
TZID:America/Chicago
BEGIN:DAYLIGHT
TZOFFSETFROM:-0600
TZOFFSETTO:-0500
TZNAME:CDT
DTSTART:20250309T080000
END:DAYLIGHT
BEGIN:STANDARD
TZOFFSETFROM:-0500
TZOFFSETTO:-0600
TZNAME:CST
DTSTART:20251102T070000
END:STANDARD
BEGIN:DAYLIGHT
TZOFFSETFROM:-0600
TZOFFSETTO:-0500
TZNAME:CDT
DTSTART:20260308T080000
END:DAYLIGHT
BEGIN:STANDARD
TZOFFSETFROM:-0500
TZOFFSETTO:-0600
TZNAME:CST
DTSTART:20261101T070000
END:STANDARD
BEGIN:DAYLIGHT
TZOFFSETFROM:-0600
TZOFFSETTO:-0500
TZNAME:CDT
DTSTART:20270314T080000
END:DAYLIGHT
BEGIN:STANDARD
TZOFFSETFROM:-0500
TZOFFSETTO:-0600
TZNAME:CST
DTSTART:20271107T070000
END:STANDARD
END:VTIMEZONE
BEGIN:VEVENT
DTSTART;TZID=America/Chicago:20260422T170000
DTEND;TZID=America/Chicago:20260422T193000
DTSTAMP:20260420T041429
CREATED:20260107T000918Z
LAST-MODIFIED:20260415T170229Z
UID:10000877-1776877200-1776886200@www.oaklandnegolfclub.com
SUMMARY:Men's League
DESCRIPTION:SHOTGUN START AT 5:30….Food will be available following play on some Wednesdays—-watch your email for information about when \n\ntwo person Best Ball with handicaps\nflights based on handicap and # of teams\n\nSign up with your team in the Golf Shop; $60 per player; active GHIN required ($30 to activate); Optional skins game $40; Optional Hole-in-One Club $25 \nPlease make sure you are on the Men’s League sign-up sheet and pay before the start of league. \nOGC Membership must be paid before signing up.
URL:https://www.oaklandnegolfclub.com/event/mens-league-19/2026-04-22/
ATTACH;FMTTYPE=image/jpeg:https://www.oaklandnegolfclub.com/wp-content/uploads/sites/9009/2025/04/mens-league.jpg
END:VEVENT
BEGIN:VEVENT
DTSTART;TZID=America/Chicago:20260429T170000
DTEND;TZID=America/Chicago:20260429T193000
DTSTAMP:20260420T041429
CREATED:20260107T000918Z
LAST-MODIFIED:20260415T170229Z
UID:10000878-1777482000-1777491000@www.oaklandnegolfclub.com
SUMMARY:Men's League
DESCRIPTION:SHOTGUN START AT 5:30….Food will be available following play on some Wednesdays—-watch your email for information about when \n\ntwo person Best Ball with handicaps\nflights based on handicap and # of teams\n\nSign up with your team in the Golf Shop; $60 per player; active GHIN required ($30 to activate); Optional skins game $40; Optional Hole-in-One Club $25 \nPlease make sure you are on the Men’s League sign-up sheet and pay before the start of league. \nOGC Membership must be paid before signing up.
URL:https://www.oaklandnegolfclub.com/event/mens-league-19/2026-04-29/
ATTACH;FMTTYPE=image/jpeg:https://www.oaklandnegolfclub.com/wp-content/uploads/sites/9009/2025/04/mens-league.jpg
END:VEVENT
BEGIN:VEVENT
DTSTART;TZID=America/Chicago:20260506T170000
DTEND;TZID=America/Chicago:20260506T193000
DTSTAMP:20260420T041429
CREATED:20260107T000918Z
LAST-MODIFIED:20260415T170229Z
UID:10000879-1778086800-1778095800@www.oaklandnegolfclub.com
SUMMARY:Men's League
DESCRIPTION:SHOTGUN START AT 5:30….Food will be available following play on some Wednesdays—-watch your email for information about when \n\ntwo person Best Ball with handicaps\nflights based on handicap and # of teams\n\nSign up with your team in the Golf Shop; $60 per player; active GHIN required ($30 to activate); Optional skins game $40; Optional Hole-in-One Club $25 \nPlease make sure you are on the Men’s League sign-up sheet and pay before the start of league. \nOGC Membership must be paid before signing up.
URL:https://www.oaklandnegolfclub.com/event/mens-league-19/2026-05-06/
ATTACH;FMTTYPE=image/jpeg:https://www.oaklandnegolfclub.com/wp-content/uploads/sites/9009/2025/04/mens-league.jpg
END:VEVENT
BEGIN:VEVENT
DTSTART;TZID=America/Chicago:20260513T170000
DTEND;TZID=America/Chicago:20260513T193000
DTSTAMP:20260420T041429
CREATED:20260107T000918Z
LAST-MODIFIED:20260415T170229Z
UID:10000880-1778691600-1778700600@www.oaklandnegolfclub.com
SUMMARY:Men's League
DESCRIPTION:SHOTGUN START AT 5:30….Food will be available following play on some Wednesdays—-watch your email for information about when \n\ntwo person Best Ball with handicaps\nflights based on handicap and # of teams\n\nSign up with your team in the Golf Shop; $60 per player; active GHIN required ($30 to activate); Optional skins game $40; Optional Hole-in-One Club $25 \nPlease make sure you are on the Men’s League sign-up sheet and pay before the start of league. \nOGC Membership must be paid before signing up.
URL:https://www.oaklandnegolfclub.com/event/mens-league-19/2026-05-13/
ATTACH;FMTTYPE=image/jpeg:https://www.oaklandnegolfclub.com/wp-content/uploads/sites/9009/2025/04/mens-league.jpg
END:VEVENT
BEGIN:VEVENT
DTSTART;TZID=America/Chicago:20260520T170000
DTEND;TZID=America/Chicago:20260520T193000
DTSTAMP:20260420T041429
CREATED:20260107T000918Z
LAST-MODIFIED:20260415T170229Z
UID:10000881-1779296400-1779305400@www.oaklandnegolfclub.com
SUMMARY:Men's League
DESCRIPTION:SHOTGUN START AT 5:30….Food will be available following play on some Wednesdays—-watch your email for information about when \n\ntwo person Best Ball with handicaps\nflights based on handicap and # of teams\n\nSign up with your team in the Golf Shop; $60 per player; active GHIN required ($30 to activate); Optional skins game $40; Optional Hole-in-One Club $25 \nPlease make sure you are on the Men’s League sign-up sheet and pay before the start of league. \nOGC Membership must be paid before signing up.
URL:https://www.oaklandnegolfclub.com/event/mens-league-19/2026-05-20/
ATTACH;FMTTYPE=image/jpeg:https://www.oaklandnegolfclub.com/wp-content/uploads/sites/9009/2025/04/mens-league.jpg
END:VEVENT
BEGIN:VEVENT
DTSTART;TZID=America/Chicago:20260527T170000
DTEND;TZID=America/Chicago:20260527T193000
DTSTAMP:20260420T041429
CREATED:20260107T000918Z
LAST-MODIFIED:20260415T170229Z
UID:10000882-1779901200-1779910200@www.oaklandnegolfclub.com
SUMMARY:Men's League
DESCRIPTION:SHOTGUN START AT 5:30….Food will be available following play on some Wednesdays—-watch your email for information about when \n\ntwo person Best Ball with handicaps\nflights based on handicap and # of teams\n\nSign up with your team in the Golf Shop; $60 per player; active GHIN required ($30 to activate); Optional skins game $40; Optional Hole-in-One Club $25 \nPlease make sure you are on the Men’s League sign-up sheet and pay before the start of league. \nOGC Membership must be paid before signing up.
URL:https://www.oaklandnegolfclub.com/event/mens-league-19/2026-05-27/
ATTACH;FMTTYPE=image/jpeg:https://www.oaklandnegolfclub.com/wp-content/uploads/sites/9009/2025/04/mens-league.jpg
END:VEVENT
BEGIN:VEVENT
DTSTART;TZID=America/Chicago:20260603T170000
DTEND;TZID=America/Chicago:20260603T193000
DTSTAMP:20260420T041429
CREATED:20260107T000918Z
LAST-MODIFIED:20260415T170229Z
UID:10000883-1780506000-1780515000@www.oaklandnegolfclub.com
SUMMARY:Men's League
DESCRIPTION:SHOTGUN START AT 5:30….Food will be available following play on some Wednesdays—-watch your email for information about when \n\ntwo person Best Ball with handicaps\nflights based on handicap and # of teams\n\nSign up with your team in the Golf Shop; $60 per player; active GHIN required ($30 to activate); Optional skins game $40; Optional Hole-in-One Club $25 \nPlease make sure you are on the Men’s League sign-up sheet and pay before the start of league. \nOGC Membership must be paid before signing up.
URL:https://www.oaklandnegolfclub.com/event/mens-league-19/2026-06-03/
ATTACH;FMTTYPE=image/jpeg:https://www.oaklandnegolfclub.com/wp-content/uploads/sites/9009/2025/04/mens-league.jpg
END:VEVENT
END:VCALENDAR